BEGIN:VCALENDAR
VERSION:2.0
PRODID:-//CVJM Walddorfhäslach - ECPv6.15.18//NONSGML v1.0//EN
CALSCALE:GREGORIAN
METHOD:PUBLISH
X-ORIGINAL-URL:https://cvjm-wh.de
X-WR-CALDESC:Veranstaltungen für CVJM Walddorfhäslach
REFRESH-INTERVAL;VALUE=DURATION:PT1H
X-Robots-Tag:noindex
X-PUBLISHED-TTL:PT1H
BEGIN:VTIMEZONE
TZID:Europe/Berlin
BEGIN:DAYLIGHT
TZOFFSETFROM:+0100
TZOFFSETTO:+0200
TZNAME:CEST
DTSTART:20160327T010000
END:DAYLIGHT
BEGIN:STANDARD
TZOFFSETFROM:+0200
TZOFFSETTO:+0100
TZNAME:CET
DTSTART:20161030T010000
END:STANDARD
BEGIN:DAYLIGHT
TZOFFSETFROM:+0100
TZOFFSETTO:+0200
TZNAME:CEST
DTSTART:20170326T010000
END:DAYLIGHT
BEGIN:STANDARD
TZOFFSETFROM:+0200
TZOFFSETTO:+0100
TZNAME:CET
DTSTART:20171029T010000
END:STANDARD
BEGIN:DAYLIGHT
TZOFFSETFROM:+0100
TZOFFSETTO:+0200
TZNAME:CEST
DTSTART:20180325T010000
END:DAYLIGHT
BEGIN:STANDARD
TZOFFSETFROM:+0200
TZOFFSETTO:+0100
TZNAME:CET
DTSTART:20181028T010000
END:STANDARD
END:VTIMEZONE
BEGIN:VEVENT
DTSTART;TZID=Europe/Berlin:20171115T183000
DTEND;TZID=Europe/Berlin:20171115T220000
DTSTAMP:20260423T050454
CREATED:20170627T093710Z
LAST-MODIFIED:20171107T192059Z
UID:3915-1510770600-1510783200@cvjm-wh.de
SUMMARY:Mitarbeiterverwöhnabend
DESCRIPTION:Wir wollen euch für den großartigen Einsatz im CVJM danken. Ein Abend mit leckerem Essen und gemütlicher Atmosphäre soll das ausdrücken.
URL:https://cvjm-wh.de/event/mitarbeiterverwoehnabend-wir-sagen-danke/
CATEGORIES:Feste,Mitarbeiter
ATTACH;FMTTYPE=image/png:https://cvjm-wh.de/wp/wp-content/uploads/2017/06/Danke_Mitarbeiter.png
ORGANIZER;CN="CVJM Walddorfh%C3%A4slach":MAILTO:info@cvjm-wh.de
END:VEVENT
END:VCALENDAR