BEGIN:VCALENDAR
VERSION:2.0
PRODID:-//CVJM Walddorfhäslach - ECPv6.15.18//NONSGML v1.0//EN
CALSCALE:GREGORIAN
METHOD:PUBLISH
X-ORIGINAL-URL:https://cvjm-wh.de
X-WR-CALDESC:Veranstaltungen für CVJM Walddorfhäslach
REFRESH-INTERVAL;VALUE=DURATION:PT1H
X-Robots-Tag:noindex
X-PUBLISHED-TTL:PT1H
BEGIN:VTIMEZONE
TZID:Europe/Berlin
BEGIN:DAYLIGHT
TZOFFSETFROM:+0100
TZOFFSETTO:+0200
TZNAME:CEST
DTSTART:20220327T010000
END:DAYLIGHT
BEGIN:STANDARD
TZOFFSETFROM:+0200
TZOFFSETTO:+0100
TZNAME:CET
DTSTART:20221030T010000
END:STANDARD
BEGIN:DAYLIGHT
TZOFFSETFROM:+0100
TZOFFSETTO:+0200
TZNAME:CEST
DTSTART:20230326T010000
END:DAYLIGHT
BEGIN:STANDARD
TZOFFSETFROM:+0200
TZOFFSETTO:+0100
TZNAME:CET
DTSTART:20231029T010000
END:STANDARD
BEGIN:DAYLIGHT
TZOFFSETFROM:+0100
TZOFFSETTO:+0200
TZNAME:CEST
DTSTART:20240331T010000
END:DAYLIGHT
BEGIN:STANDARD
TZOFFSETFROM:+0200
TZOFFSETTO:+0100
TZNAME:CET
DTSTART:20241027T010000
END:STANDARD
END:VTIMEZONE
BEGIN:VEVENT
DTSTART;TZID=Europe/Berlin:20231015T110000
DTEND;TZID=Europe/Berlin:20231015T160000
DTSTAMP:20260425T205443
CREATED:20230315T151907Z
LAST-MODIFIED:20230920T112856Z
UID:11219-1697367600-1697385600@cvjm-wh.de
SUMMARY:Familientag
DESCRIPTION:Herzliche Einladung zum großen Familientag im CVJM-Zentrum am 15. Oktober. \nLos geht’s um 11 Uhr mit der Willkommens-Zeit – Zeit\, um entspannt anzukommen und sich zu begegnen. \nUm 11:30 Uhr erleben wir per Livestream – verbunden mit vielen anderen Orten im Land\, die ebenfalls Familientag feiern – ein buntes „Bühnenprogramm” mit Musiker Mike Müllerbauer. \nDanach könnt ihr an verschiedenen Stationen selbst kreativ\, sportlich und experimentell aktiv werden und so das Thema des Tages „Mut” entdecken (z.B. beim Kistenstapeln). Oder ihr lasst es erstmal gemütlich angehen und gönnt euch einen leckeren Burger\, Kuchen\, Eis und Kaffee vom Oonikat. \nWir freuen uns riesig\, wenn ihr mit dabei seid!
URL:https://cvjm-wh.de/event/familientag-2/
LOCATION:CVJM-Zentrum\, Oetinger Straße 2-4\, Walddorfhäslach\, 72141
CATEGORIES:Kinder,Feste,Mitglieder
ATTACH;FMTTYPE=image/png:https://cvjm-wh.de/wp/wp-content/uploads/2023/03/Familientag_1.png
END:VEVENT
END:VCALENDAR