BEGIN:VCALENDAR
VERSION:2.0
PRODID:-//CVJM Walddorfhäslach - ECPv6.15.18//NONSGML v1.0//EN
CALSCALE:GREGORIAN
METHOD:PUBLISH
X-WR-CALNAME:CVJM Walddorfhäslach
X-ORIGINAL-URL:https://cvjm-wh.de
X-WR-CALDESC:Veranstaltungen für CVJM Walddorfhäslach
REFRESH-INTERVAL;VALUE=DURATION:PT1H
X-Robots-Tag:noindex
X-PUBLISHED-TTL:PT1H
BEGIN:VTIMEZONE
TZID:Europe/Berlin
BEGIN:DAYLIGHT
TZOFFSETFROM:+0100
TZOFFSETTO:+0200
TZNAME:CEST
DTSTART:20170326T010000
END:DAYLIGHT
BEGIN:STANDARD
TZOFFSETFROM:+0200
TZOFFSETTO:+0100
TZNAME:CET
DTSTART:20171029T010000
END:STANDARD
BEGIN:DAYLIGHT
TZOFFSETFROM:+0100
TZOFFSETTO:+0200
TZNAME:CEST
DTSTART:20180325T010000
END:DAYLIGHT
BEGIN:STANDARD
TZOFFSETFROM:+0200
TZOFFSETTO:+0100
TZNAME:CET
DTSTART:20181028T010000
END:STANDARD
BEGIN:DAYLIGHT
TZOFFSETFROM:+0100
TZOFFSETTO:+0200
TZNAME:CEST
DTSTART:20190331T010000
END:DAYLIGHT
BEGIN:STANDARD
TZOFFSETFROM:+0200
TZOFFSETTO:+0100
TZNAME:CET
DTSTART:20191027T010000
END:STANDARD
END:VTIMEZONE
BEGIN:VEVENT
DTSTART;TZID=Europe/Berlin:20180113T093000
DTEND;TZID=Europe/Berlin:20180113T160000
DTSTAMP:20260421T052225
CREATED:20171230T092731Z
LAST-MODIFIED:20180112T203955Z
UID:4824-1515835800-1515859200@cvjm-wh.de
SUMMARY:Weihnachtsbaum-Abholaktion
DESCRIPTION:Alle Infos zur Weihnachtsbaumabholaktion findet ihr hier. \n 
URL:https://cvjm-wh.de/event/weihnachtsbaumabholaktion/
CATEGORIES:Mitarbeiter
ATTACH;FMTTYPE=image/jpeg:https://cvjm-wh.de/wp/wp-content/uploads/2017/12/Weihnachtsbaumabholaktion2018.jpg
ORGANIZER;CN="CVJM Walddorfh%C3%A4slach":MAILTO:info@cvjm-wh.de
END:VEVENT
END:VCALENDAR