BEGIN:VCALENDAR
VERSION:2.0
PRODID:-//CVJM Walddorfhäslach - ECPv6.15.18//NONSGML v1.0//EN
CALSCALE:GREGORIAN
METHOD:PUBLISH
X-WR-CALNAME:CVJM Walddorfhäslach
X-ORIGINAL-URL:https://cvjm-wh.de
X-WR-CALDESC:Veranstaltungen für CVJM Walddorfhäslach
REFRESH-INTERVAL;VALUE=DURATION:PT1H
X-Robots-Tag:noindex
X-PUBLISHED-TTL:PT1H
BEGIN:VTIMEZONE
TZID:Europe/Berlin
BEGIN:DAYLIGHT
TZOFFSETFROM:+0100
TZOFFSETTO:+0200
TZNAME:CEST
DTSTART:20250330T010000
END:DAYLIGHT
BEGIN:STANDARD
TZOFFSETFROM:+0200
TZOFFSETTO:+0100
TZNAME:CET
DTSTART:20251026T010000
END:STANDARD
BEGIN:DAYLIGHT
TZOFFSETFROM:+0100
TZOFFSETTO:+0200
TZNAME:CEST
DTSTART:20260329T010000
END:DAYLIGHT
BEGIN:STANDARD
TZOFFSETFROM:+0200
TZOFFSETTO:+0100
TZNAME:CET
DTSTART:20261025T010000
END:STANDARD
BEGIN:DAYLIGHT
TZOFFSETFROM:+0100
TZOFFSETTO:+0200
TZNAME:CEST
DTSTART:20270328T010000
END:DAYLIGHT
BEGIN:STANDARD
TZOFFSETFROM:+0200
TZOFFSETTO:+0100
TZNAME:CET
DTSTART:20271031T010000
END:STANDARD
END:VTIMEZONE
BEGIN:VEVENT
DTSTART;TZID=Europe/Berlin:20260419T180000
DTEND;TZID=Europe/Berlin:20260419T210000
DTSTAMP:20260420T020538
CREATED:20260413T133806Z
LAST-MODIFIED:20260413T133806Z
UID:15591-1776621600-1776632400@cvjm-wh.de
SUMMARY:Jahreshauptversammlung
DESCRIPTION:Liebe Mitglieder des CVJM-Walddorfhäslach \nwir laden Euch herzlich am Sonntag\, den 19. April 2026\, um 18 Uhr ins CVJM-Zentrum zu unserer Mitgliederversammlung ein. \nEine Einladung mit Tagesordnung habt ihr per Post bekommen. \nWir freuen uns auf euch!
URL:https://cvjm-wh.de/event/jahreshauptversammlung/
LOCATION:CVJM Zentrum
END:VEVENT
END:VCALENDAR